BEGIN:VCALENDAR
VERSION:2.0
PRODID:-//eventon.com NONSGML v1.0//EN
CALSCALE:GREGORIAN
METHOD:PUBLISH
BEGIN:VEVENT
UID:69e5f8b6ebb12
DTSTAMP:20260420T095814Z
DTSTART:20250826T190000Z
DTEND:20250826T220000Z
LOCATION:
SUMMARY:Crystal Skull Activation
DESCRIPTION:This is a very special journey connecting you to the frequency 
 and story of the crystal skulls\,  their healing purpose what they do and h
 ow  working with crystal skull technology can bring transformation\,  clar
 ity and a shift in consciousness. If you are curious about crystal skulls t
 hen this class if for you.[..]\nhttps://dechacademy.com/events/crystal-sk
 ull-activation/
URL:https://dechacademy.com/events/crystal-skull-activation/
END:VEVENT
END:VCALENDAR